Workbook
Name 学年: #REF!
Name 小学1・2年: #REF!
Name 小学3・4年: #REF!
Name 小学5・6年: #REF!
Name 小学女子3・4年: #REF!
Name 小学女子5・6年: #REF!
Name 性別: #REF!
Name 中学生: #REF!
Name 中学生女子: #REF!
Name 幼年: #REF!

Sheet entry sheet
A1: 大会参加申込書
B3: チーム名： | F3: （略称）
B4: 申込責任者： | F4: TEL：
B5: アドレス： | F5: ※ 必ず受信できるアドレスを記載願います
B6: 監督：
B7: 帯同審判員：
C8: ※ 審判員のご協力をお願いいたします。
A10: entry list
A12: No. | B12: チーム名 | C12: カテゴリー | D12: 氏 | E12: 名 | F12: フリ | G12: カナ | H12: 性 | I12: 学年 | J12: 現体重 | K12: 競技歴 | L12: 試合経験
A13: 1 | B13: =$G$3 -> 0 | C13: 幼年の部 | H13: （選択） | I13: （選択） | K13: （選択） | L13: （選択）
A14: 2 | B14: =$G$3 -> 0 | C14: （選択） | H14: （選択） | I14: （選択） | K14: （選択） | L14: （選択）
A15: 3 | B15: =$G$3 -> 0 | C15: （選択） | H15: （選択） | I15: （選択） | K15: （選択） | L15: （選択）
A16: 4 | B16: =$G$3 -> 0 | C16: （選択） | H16: （選択） | I16: （選択） | K16: （選択） | L16: （選択）
A17: 5 | B17: =$G$3 -> 0 | C17: （選択） | H17: （選択） | I17: （選択） | K17: （選択） | L17: （選択）
A18: 6 | B18: =$G$3 -> 0 | C18: （選択） | H18: （選択） | I18: （選択） | K18: （選択） | L18: （選択）
A19: 7 | B19: =$G$3 -> 0 | C19: （選択） | H19: （選択） | I19: （選択） | K19: （選択） | L19: （選択）
A20: 8 | B20: =$G$3 -> 0 | C20: （選択） | H20: （選択） | I20: （選択） | K20: （選択） | L20: （選択）
A21: 9 | B21: =$G$3 -> 0 | C21: （選択） | H21: （選択） | I21: （選択） | K21: （選択） | L21: （選択）
A22: 10 | B22: =$G$3 -> 0 | C22: （選択） | H22: （選択） | I22: （選択） | K22: （選択） | L22: （選択）
A23: 11 | B23: =$G$3 -> 0 | C23: （選択） | H23: （選択） | I23: （選択） | K23: （選択） | L23: （選択）
A24: 12 | B24: =$G$3 -> 0 | C24: （選択） | H24: （選択） | I24: （選択） | K24: （選択） | L24: （選択）
... A37: 25 | B37: =$G$3 -> 0 | C37: （選択） | H37: （選択） | I37: （選択） | K37: （選択） | L37: （選択）
C39: 参加選手数 | D39: =COUNTA(D13:D37) -> 0
C41: 参加料 | D41: =D39*3000 -> 0

Sheet list
A1: （選択） | B1: （選択） | C1: （選択） | D1: （選択） | E1: （選択）
A2: 幼年の部 | B2: 男 | C2: 年少 | D2: 1年未満 | E2: 無し
A3: 小学1.2年生の部 | B3: 女 | C3: 年中 | D3: 1～2年 | E3: 県内大会のみ
A4: 小学3.4年女子の部 | C4: 年長 | D4: 2～3年 | E4: 県外大会有り
A5: 小学5.6年女子の部 | C5: 1年
A6: 小学3.4年男子の部 | C6: 2年
A7: 小学5.6年男子の部 | C7: 3年
C8: 4年
C9: 5年
C10: 6年

Sheet data
A1: ='entry sheet'!A13 -> 1 | B1: ='entry sheet'!B13 -> 0 | C1: ='entry sheet'!C13 -> 幼年の部 | D1: ='entry sheet'!D13 -> 0 | E1: ='entry sheet'!E13 -> 0 | F1: ='entry sheet'!F13 -> 0 | G1: ='entry sheet'!G13 -> 0 | H1: ='entry sheet'!H13 -> （選択） | ... L1: ='entry sheet'!L13 -> （選択）
A2: ='entry sheet'!A14 -> 2 | B2: ='entry sheet'!B14 -> 0 | C2: ='entry sheet'!C14 -> （選択） | D2: ='entry sheet'!D14 -> 0 | E2: ='entry sheet'!E14 -> 0 | F2: ='entry sheet'!F14 -> 0 | G2: ='entry sheet'!G14 -> 0 | H2: ='entry sheet'!H14 -> （選択） | ... L2: ='entry sheet'!L14 -> （選択）
A3: ='entry sheet'!A15 -> 3 | B3: ='entry sheet'!B15 -> 0 | C3: ='entry sheet'!C15 -> （選択） | D3: ='entry sheet'!D15 -> 0 | E3: ='entry sheet'!E15 -> 0 | F3: ='entry sheet'!F15 -> 0 | G3: ='entry sheet'!G15 -> 0 | H3: ='entry sheet'!H15 -> （選択） | ... L3: ='entry sheet'!L15 -> （選択）
A4: ='entry sheet'!A16 -> 4 | B4: ='entry sheet'!B16 -> 0 | C4: ='entry sheet'!C16 -> （選択） | D4: ='entry sheet'!D16 -> 0 | E4: ='entry sheet'!E16 -> 0 | F4: ='entry sheet'!F16 -> 0 | G4: ='entry sheet'!G16 -> 0 | H4: ='entry sheet'!H16 -> （選択） | ... L4: ='entry sheet'!L16 -> （選択）
A5: ='entry sheet'!A17 -> 5 | B5: ='entry sheet'!B17 -> 0 | C5: ='entry sheet'!C17 -> （選択） | D5: ='entry sheet'!D17 -> 0 | E5: ='entry sheet'!E17 -> 0 | F5: ='entry sheet'!F17 -> 0 | G5: ='entry sheet'!G17 -> 0 | H5: ='entry sheet'!H17 -> （選択） | ... L5: ='entry sheet'!L17 -> （選択）
A6: ='entry sheet'!A18 -> 6 | B6: ='entry sheet'!B18 -> 0 | C6: ='entry sheet'!C18 -> （選択） | D6: ='entry sheet'!D18 -> 0 | E6: ='entry sheet'!E18 -> 0 | F6: ='entry sheet'!F18 -> 0 | G6: ='entry sheet'!G18 -> 0 | H6: ='entry sheet'!H18 -> （選択） | ... L6: ='entry sheet'!L18 -> （選択）
A7: ='entry sheet'!A19 -> 7 | B7: ='entry sheet'!B19 -> 0 | C7: ='entry sheet'!C19 -> （選択） | D7: ='entry sheet'!D19 -> 0 | E7: ='entry sheet'!E19 -> 0 | F7: ='entry sheet'!F19 -> 0 | G7: ='entry sheet'!G19 -> 0 | H7: ='entry sheet'!H19 -> （選択） | ... L7: ='entry sheet'!L19 -> （選択）
A8: ='entry sheet'!A20 -> 8 | B8: ='entry sheet'!B20 -> 0 | C8: ='entry sheet'!C20 -> （選択） | D8: ='entry sheet'!D20 -> 0 | E8: ='entry sheet'!E20 -> 0 | F8: ='entry sheet'!F20 -> 0 | G8: ='entry sheet'!G20 -> 0 | H8: ='entry sheet'!H20 -> （選択） | ... L8: ='entry sheet'!L20 -> （選択）
A9: ='entry sheet'!A21 -> 9 | B9: ='entry sheet'!B21 -> 0 | C9: ='entry sheet'!C21 -> （選択） | D9: ='entry sheet'!D21 -> 0 | E9: ='entry sheet'!E21 -> 0 | F9: ='entry sheet'!F21 -> 0 | G9: ='entry sheet'!G21 -> 0 | H9: ='entry sheet'!H21 -> （選択） | ... L9: ='entry sheet'!L21 -> （選択）
A10: ='entry sheet'!A22 -> 10 | B10: ='entry sheet'!B22 -> 0 | C10: ='entry sheet'!C22 -> （選択） | D10: ='entry sheet'!D22 -> 0 | E10: ='entry sheet'!E22 -> 0 | F10: ='entry sheet'!F22 -> 0 | G10: ='entry sheet'!G22 -> 0 | H10: ='entry sheet'!H22 -> （選択） | ... L10: ='entry sheet'!L22 -> （選択）
A11: ='entry sheet'!A23 -> 11 | B11: ='entry sheet'!B23 -> 0 | C11: ='entry sheet'!C23 -> （選択） | D11: ='entry sheet'!D23 -> 0 | E11: ='entry sheet'!E23 -> 0 | F11: ='entry sheet'!F23 -> 0 | G11: ='entry sheet'!G23 -> 0 | H11: ='entry sheet'!H23 -> （選択） | ... L11: ='entry sheet'!L23 -> （選択）
A12: ='entry sheet'!A24 -> 12 | B12: ='entry sheet'!B24 -> 0 | C12: ='entry sheet'!C24 -> （選択） | D12: ='entry sheet'!D24 -> 0 | E12: ='entry sheet'!E24 -> 0 | F12: ='entry sheet'!F24 -> 0 | G12: ='entry sheet'!G24 -> 0 | H12: ='entry sheet'!H24 -> （選択） | ... L12: ='entry sheet'!L24 -> （選択）
... A25: ='entry sheet'!A37 -> 25 | B25: ='entry sheet'!B37 -> 0 | C25: ='entry sheet'!C37 -> （選択） | D25: ='entry sheet'!D37 -> 0 | E25: ='entry sheet'!E37 -> 0 | F25: ='entry sheet'!F37 -> 0 | G25: ='entry sheet'!G37 -> 0 | H25: ='entry sheet'!H37 -> （選択） | ... L25: ='entry sheet'!L37 -> （選択）
